BEGIN:VCALENDAR
VERSION:2.0
PRODID:-//TBCO College Student Portal - ECPv6.15.17.1//NONSGML v1.0//EN
CALSCALE:GREGORIAN
METHOD:PUBLISH
X-WR-CALNAME:TBCO College Student Portal
X-ORIGINAL-URL:https://students.thebelonging.co
X-WR-CALDESC:Events for TBCO College Student Portal
REFRESH-INTERVAL;VALUE=DURATION:PT1H
X-Robots-Tag:noindex
X-PUBLISHED-TTL:PT1H
BEGIN:VTIMEZONE
TZID:America/Chicago
BEGIN:DAYLIGHT
TZOFFSETFROM:-0600
TZOFFSETTO:-0500
TZNAME:CDT
DTSTART:20230312T080000
END:DAYLIGHT
BEGIN:STANDARD
TZOFFSETFROM:-0500
TZOFFSETTO:-0600
TZNAME:CST
DTSTART:20231105T070000
END:STANDARD
BEGIN:DAYLIGHT
TZOFFSETFROM:-0600
TZOFFSETTO:-0500
TZNAME:CDT
DTSTART:20240310T080000
END:DAYLIGHT
BEGIN:STANDARD
TZOFFSETFROM:-0500
TZOFFSETTO:-0600
TZNAME:CST
DTSTART:20241103T070000
END:STANDARD
BEGIN:DAYLIGHT
TZOFFSETFROM:-0600
TZOFFSETTO:-0500
TZNAME:CDT
DTSTART:20250309T080000
END:DAYLIGHT
BEGIN:STANDARD
TZOFFSETFROM:-0500
TZOFFSETTO:-0600
TZNAME:CST
DTSTART:20251102T070000
END:STANDARD
END:VTIMEZONE
BEGIN:VEVENT
DTSTART;TZID=America/Chicago:20240428T110000
DTEND;TZID=America/Chicago:20240428T130000
DTSTAMP:20260419T152315
CREATED:20230508T160044Z
LAST-MODIFIED:20230508T160044Z
UID:10002047-1714302000-1714309200@students.thebelonging.co
SUMMARY:College Graduation
DESCRIPTION:
URL:https://students.thebelonging.co/events/college-graduation-2/
END:VEVENT
BEGIN:VEVENT
DTSTART;TZID=America/Chicago:20240429T081500
DTEND;TZID=America/Chicago:20240429T121500
DTSTAMP:20260419T152315
CREATED:20231219T214309Z
LAST-MODIFIED:20231219T214309Z
UID:10002916-1714378500-1714392900@students.thebelonging.co
SUMMARY:On-Campus SEU Classes
DESCRIPTION:
URL:https://students.thebelonging.co/events/on-campus-seu-classes-2/2024-04-29/
END:VEVENT
BEGIN:VEVENT
DTSTART;TZID=America/Chicago:20240429T094500
DTEND;TZID=America/Chicago:20240429T101500
DTSTAMP:20260419T152315
CREATED:20231219T215405Z
LAST-MODIFIED:20231219T215405Z
UID:10002952-1714383900-1714385700@students.thebelonging.co
SUMMARY:Student Breakfast
DESCRIPTION:
URL:https://students.thebelonging.co/events/student-breakfast-4/2024-04-29/
END:VEVENT
BEGIN:VEVENT
DTSTART;TZID=America/Chicago:20240429T100000
DTEND;TZID=America/Chicago:20240429T110000
DTSTAMP:20260419T152315
CREATED:20231219T214910Z
LAST-MODIFIED:20231219T214910Z
UID:10002938-1714384800-1714388400@students.thebelonging.co
SUMMARY:Certificate Student Meeting
DESCRIPTION:
URL:https://students.thebelonging.co/events/certificate-student-meeting/2024-04-29/
END:VEVENT
BEGIN:VEVENT
DTSTART;TZID=America/Chicago:20240429T130000
DTEND;TZID=America/Chicago:20240429T140000
DTSTAMP:20260419T152315
CREATED:20231105T182940Z
LAST-MODIFIED:20231219T213840Z
UID:10002254-1714395600-1714399200@students.thebelonging.co
SUMMARY:General Practicum
DESCRIPTION:
URL:https://students.thebelonging.co/events/general-practicum-3/2024-04-29/
LOCATION:Nashville Location\, 201 Great Circle Rd\, Nasvhille\, TN\, 37228\, United States
END:VEVENT
BEGIN:VEVENT
DTSTART;TZID=America/Chicago:20240430T100000
DTEND;TZID=America/Chicago:20240430T113000
DTSTAMP:20260419T152315
CREATED:20230508T160903Z
LAST-MODIFIED:20230508T160903Z
UID:10002046-1714471200-1714476600@students.thebelonging.co
SUMMARY:Graduation Chapel
DESCRIPTION:
URL:https://students.thebelonging.co/events/graduation-chapel/
END:VEVENT
BEGIN:VEVENT
DTSTART;TZID=America/Chicago:20240430T100000
DTEND;TZID=America/Chicago:20240430T113000
DTSTAMP:20260419T152315
CREATED:20231105T183256Z
LAST-MODIFIED:20231219T220826Z
UID:10002270-1714471200-1714476600@students.thebelonging.co
SUMMARY:Chapel
DESCRIPTION:
URL:https://students.thebelonging.co/events/chapel-34/2024-04-30/
END:VEVENT
BEGIN:VEVENT
DTSTART;TZID=America/Chicago:20240430T153000
DTEND;TZID=America/Chicago:20240430T170000
DTSTAMP:20260419T152315
CREATED:20231219T214453Z
LAST-MODIFIED:20231219T214453Z
UID:10002931-1714491000-1714496400@students.thebelonging.co
SUMMARY:On-Campus SEU Classes
DESCRIPTION:
URL:https://students.thebelonging.co/events/on-campus-seu-classes-3/2024-04-30/
END:VEVENT
BEGIN:VEVENT
DTSTART;VALUE=DATE:20240501
DTEND;VALUE=DATE:20240818
DTSTAMP:20260419T152315
CREATED:20231105T184554Z
LAST-MODIFIED:20231105T184554Z
UID:10002566-1714521600-1723939199@students.thebelonging.co
SUMMARY:Summer Break
DESCRIPTION:
URL:https://students.thebelonging.co/events/summer-break/
END:VEVENT
END:VCALENDAR