BEGIN:VCALENDAR
VERSION:2.0
PRODID:-//TBCO College Student Portal - ECPv6.15.17.1//NONSGML v1.0//EN
CALSCALE:GREGORIAN
METHOD:PUBLISH
X-WR-CALNAME:TBCO College Student Portal
X-ORIGINAL-URL:https://students.thebelonging.co
X-WR-CALDESC:Events for TBCO College Student Portal
REFRESH-INTERVAL;VALUE=DURATION:PT1H
X-Robots-Tag:noindex
X-PUBLISHED-TTL:PT1H
BEGIN:VTIMEZONE
TZID:America/Chicago
BEGIN:DAYLIGHT
TZOFFSETFROM:-0600
TZOFFSETTO:-0500
TZNAME:CDT
DTSTART:20220313T080000
END:DAYLIGHT
BEGIN:STANDARD
TZOFFSETFROM:-0500
TZOFFSETTO:-0600
TZNAME:CST
DTSTART:20221106T070000
END:STANDARD
BEGIN:DAYLIGHT
TZOFFSETFROM:-0600
TZOFFSETTO:-0500
TZNAME:CDT
DTSTART:20230312T080000
END:DAYLIGHT
BEGIN:STANDARD
TZOFFSETFROM:-0500
TZOFFSETTO:-0600
TZNAME:CST
DTSTART:20231105T070000
END:STANDARD
BEGIN:DAYLIGHT
TZOFFSETFROM:-0600
TZOFFSETTO:-0500
TZNAME:CDT
DTSTART:20240310T080000
END:DAYLIGHT
BEGIN:STANDARD
TZOFFSETFROM:-0500
TZOFFSETTO:-0600
TZNAME:CST
DTSTART:20241103T070000
END:STANDARD
END:VTIMEZONE
BEGIN:VEVENT
DTSTART;TZID=America/Chicago:20230404T093000
DTEND;TZID=America/Chicago:20230404T094500
DTSTAMP:20260422T064106
CREATED:20230309T170735Z
LAST-MODIFIED:20230309T170809Z
UID:10001893-1680600600-1680601500@students.thebelonging.co
SUMMARY:Pre-Chapel Prayer
DESCRIPTION:
URL:https://students.thebelonging.co/events/pre-chapel-prayer/2023-04-04/
LOCATION:Nashville Location\, 201 Great Circle Rd\, Nasvhille\, TN\, 37228\, United States
ORGANIZER;CN="TBCO College":MAILTO:college@thebelonging.co
END:VEVENT
BEGIN:VEVENT
DTSTART;TZID=America/Chicago:20230403T190000
DTEND;TZID=America/Chicago:20230403T210000
DTSTAMP:20260422T064106
CREATED:20221213T223705Z
LAST-MODIFIED:20221213T223705Z
UID:10001446-1680548400-1680555600@students.thebelonging.co
SUMMARY:DNA
DESCRIPTION:
URL:https://students.thebelonging.co/events/dna/2023-04-03/
LOCATION:Nashville Location\, 201 Great Circle Rd\, Nasvhille\, TN\, 37228\, United States
END:VEVENT
BEGIN:VEVENT
DTSTART;TZID=America/Chicago:20230403T140000
DTEND;TZID=America/Chicago:20230403T153000
DTSTAMP:20260422T064106
CREATED:20221016T175709Z
LAST-MODIFIED:20221212T210713Z
UID:10001802-1680530400-1680535800@students.thebelonging.co
SUMMARY:Applied Practicums
DESCRIPTION:Refer to your track syllabus
URL:https://students.thebelonging.co/events/applied-practicums/2023-04-03/
END:VEVENT
BEGIN:VEVENT
DTSTART;TZID=America/Chicago:20230403T130000
DTEND;TZID=America/Chicago:20230403T140000
DTSTAMP:20260422T064106
CREATED:20221016T175603Z
LAST-MODIFIED:20221212T211029Z
UID:10001811-1680526800-1680530400@students.thebelonging.co
SUMMARY:General Practicum
DESCRIPTION:Student Auditorium
URL:https://students.thebelonging.co/events/general-practicum/2023-04-03/
LOCATION:College Location\, 220 Great Circle Road. Ste 144\, Nasvhille\, TN\, 37228\, United States
END:VEVENT
BEGIN:VEVENT
DTSTART;TZID=America/Chicago:20230403T090000
DTEND;TZID=America/Chicago:20230403T120000
DTSTAMP:20260422T064106
CREATED:20221121T233633Z
LAST-MODIFIED:20221212T211414Z
UID:10001439-1680512400-1680523200@students.thebelonging.co
SUMMARY:Group Study
DESCRIPTION:
URL:https://students.thebelonging.co/events/group-study-28/2023-04-03/
LOCATION:College Location\, 220 Great Circle Road. Ste 144\, Nasvhille\, TN\, 37228\, United States
ORGANIZER;CN="TBCO College":MAILTO:college@thebelonging.co
END:VEVENT
BEGIN:VEVENT
DTSTART;TZID=America/Chicago:20230403T083000
DTEND;TZID=America/Chicago:20230403T113000
DTSTAMP:20260422T064106
CREATED:20221121T230745Z
LAST-MODIFIED:20221212T211629Z
UID:10001409-1680510600-1680521400@students.thebelonging.co
SUMMARY:In-Person SEU Classes
DESCRIPTION:
URL:https://students.thebelonging.co/events/in-person-seu-classes-4/2023-04-03/
LOCATION:College Location\, 220 Great Circle Road. Ste 144\, Nasvhille\, TN\, 37228\, United States
ORGANIZER;CN="TBCO College":MAILTO:college@thebelonging.co
END:VEVENT
BEGIN:VEVENT
DTSTART;TZID=America/Chicago:20230329T083000
DTEND;TZID=America/Chicago:20230329T100000
DTSTAMP:20260422T064106
CREATED:20221121T233205Z
LAST-MODIFIED:20221121T233205Z
UID:10001425-1680078600-1680084000@students.thebelonging.co
SUMMARY:In-Person SEU Classes
DESCRIPTION:
URL:https://students.thebelonging.co/events/in-person-seu-classes-3/2023-03-29/
LOCATION:College Location\, 220 Great Circle Road. Ste 144\, Nasvhille\, TN\, 37228\, United States
ORGANIZER;CN="TBCO College":MAILTO:college@thebelonging.co
END:VEVENT
BEGIN:VEVENT
DTSTART;TZID=America/Chicago:20230328T124500
DTEND;TZID=America/Chicago:20230328T134500
DTSTAMP:20260422T064106
CREATED:20221121T230042Z
LAST-MODIFIED:20230309T165450Z
UID:10001395-1680007500-1680011100@students.thebelonging.co
SUMMARY:Discipleship Groups
DESCRIPTION:
URL:https://students.thebelonging.co/events/discipleship-groups/2023-03-28/
LOCATION:College Location\, 220 Great Circle Road. Ste 144\, Nasvhille\, TN\, 37228\, United States
ORGANIZER;CN="TBCO College":MAILTO:college@thebelonging.co
END:VEVENT
BEGIN:VEVENT
DTSTART;TZID=America/Chicago:20230328T100000
DTEND;TZID=America/Chicago:20230328T113000
DTSTAMP:20260422T064106
CREATED:20221016T175406Z
LAST-MODIFIED:20221016T175406Z
UID:10001842-1679997600-1680003000@students.thebelonging.co
SUMMARY:Chapel
DESCRIPTION:
URL:https://students.thebelonging.co/events/chapel-32/2023-03-28/
LOCATION:College Location\, 220 Great Circle Road. Ste 144\, Nasvhille\, TN\, 37228\, United States
END:VEVENT
BEGIN:VEVENT
DTSTART;TZID=America/Chicago:20230328T093000
DTEND;TZID=America/Chicago:20230328T094500
DTSTAMP:20260422T064106
CREATED:20230309T170735Z
LAST-MODIFIED:20230309T170809Z
UID:10001892-1679995800-1679996700@students.thebelonging.co
SUMMARY:Pre-Chapel Prayer
DESCRIPTION:
URL:https://students.thebelonging.co/events/pre-chapel-prayer/2023-03-28/
LOCATION:Nashville Location\, 201 Great Circle Rd\, Nasvhille\, TN\, 37228\, United States
ORGANIZER;CN="TBCO College":MAILTO:college@thebelonging.co
END:VEVENT
BEGIN:VEVENT
DTSTART;VALUE=DATE:20230328
DTEND;VALUE=DATE:20230331
DTSTAMP:20260422T064106
CREATED:20221016T180431Z
LAST-MODIFIED:20221016T180431Z
UID:10001785-1679961600-1680220799@students.thebelonging.co
SUMMARY:Advising Days
DESCRIPTION:
URL:https://students.thebelonging.co/events/advising-days/
LOCATION:College Location\, 220 Great Circle Road. Ste 144\, Nasvhille\, TN\, 37228\, United States
ORGANIZER;CN="TBCO College":MAILTO:college@thebelonging.co
END:VEVENT
BEGIN:VEVENT
DTSTART;TZID=America/Chicago:20230327T190000
DTEND;TZID=America/Chicago:20230327T210000
DTSTAMP:20260422T064106
CREATED:20221213T223705Z
LAST-MODIFIED:20221213T223705Z
UID:10001445-1679943600-1679950800@students.thebelonging.co
SUMMARY:DNA
DESCRIPTION:
URL:https://students.thebelonging.co/events/dna/2023-03-27/
LOCATION:Nashville Location\, 201 Great Circle Rd\, Nasvhille\, TN\, 37228\, United States
END:VEVENT
BEGIN:VEVENT
DTSTART;TZID=America/Chicago:20230327T140000
DTEND;TZID=America/Chicago:20230327T153000
DTSTAMP:20260422T064106
CREATED:20221016T175709Z
LAST-MODIFIED:20221212T210713Z
UID:10001801-1679925600-1679931000@students.thebelonging.co
SUMMARY:Applied Practicums
DESCRIPTION:Refer to your track syllabus
URL:https://students.thebelonging.co/events/applied-practicums/2023-03-27/
END:VEVENT
BEGIN:VEVENT
DTSTART;TZID=America/Chicago:20230327T130000
DTEND;TZID=America/Chicago:20230327T140000
DTSTAMP:20260422T064106
CREATED:20221016T175603Z
LAST-MODIFIED:20221212T211029Z
UID:10001810-1679922000-1679925600@students.thebelonging.co
SUMMARY:General Practicum
DESCRIPTION:Student Auditorium
URL:https://students.thebelonging.co/events/general-practicum/2023-03-27/
LOCATION:College Location\, 220 Great Circle Road. Ste 144\, Nasvhille\, TN\, 37228\, United States
END:VEVENT
BEGIN:VEVENT
DTSTART;TZID=America/Chicago:20230327T090000
DTEND;TZID=America/Chicago:20230327T120000
DTSTAMP:20260422T064106
CREATED:20221121T233633Z
LAST-MODIFIED:20221212T211414Z
UID:10001438-1679907600-1679918400@students.thebelonging.co
SUMMARY:Group Study
DESCRIPTION:
URL:https://students.thebelonging.co/events/group-study-28/2023-03-27/
LOCATION:College Location\, 220 Great Circle Road. Ste 144\, Nasvhille\, TN\, 37228\, United States
ORGANIZER;CN="TBCO College":MAILTO:college@thebelonging.co
END:VEVENT
BEGIN:VEVENT
DTSTART;TZID=America/Chicago:20230327T083000
DTEND;TZID=America/Chicago:20230327T113000
DTSTAMP:20260422T064106
CREATED:20221121T230745Z
LAST-MODIFIED:20221212T211629Z
UID:10001408-1679905800-1679916600@students.thebelonging.co
SUMMARY:In-Person SEU Classes
DESCRIPTION:
URL:https://students.thebelonging.co/events/in-person-seu-classes-4/2023-03-27/
LOCATION:College Location\, 220 Great Circle Road. Ste 144\, Nasvhille\, TN\, 37228\, United States
ORGANIZER;CN="TBCO College":MAILTO:college@thebelonging.co
END:VEVENT
BEGIN:VEVENT
DTSTART;VALUE=DATE:20230324
DTEND;VALUE=DATE:20230326
DTSTAMP:20260422T064106
CREATED:20221016T180325Z
LAST-MODIFIED:20221016T180325Z
UID:10001786-1679616000-1679788799@students.thebelonging.co
SUMMARY:Servant Leader Conference
DESCRIPTION:
URL:https://students.thebelonging.co/events/servant-leader-conference/
LOCATION:Nashville Location\, 201 Great Circle Rd\, Nasvhille\, TN\, 37228\, United States
END:VEVENT
BEGIN:VEVENT
DTSTART;TZID=America/Chicago:20230322T083000
DTEND;TZID=America/Chicago:20230322T100000
DTSTAMP:20260422T064106
CREATED:20221121T233205Z
LAST-MODIFIED:20221121T233205Z
UID:10001424-1679473800-1679479200@students.thebelonging.co
SUMMARY:In-Person SEU Classes
DESCRIPTION:
URL:https://students.thebelonging.co/events/in-person-seu-classes-3/2023-03-22/
LOCATION:College Location\, 220 Great Circle Road. Ste 144\, Nasvhille\, TN\, 37228\, United States
ORGANIZER;CN="TBCO College":MAILTO:college@thebelonging.co
END:VEVENT
BEGIN:VEVENT
DTSTART;TZID=America/Chicago:20230321T124500
DTEND;TZID=America/Chicago:20230321T134500
DTSTAMP:20260422T064106
CREATED:20221121T230042Z
LAST-MODIFIED:20230309T165450Z
UID:10001394-1679402700-1679406300@students.thebelonging.co
SUMMARY:Discipleship Groups
DESCRIPTION:
URL:https://students.thebelonging.co/events/discipleship-groups/2023-03-21/
LOCATION:College Location\, 220 Great Circle Road. Ste 144\, Nasvhille\, TN\, 37228\, United States
ORGANIZER;CN="TBCO College":MAILTO:college@thebelonging.co
END:VEVENT
BEGIN:VEVENT
DTSTART;TZID=America/Chicago:20230321T100000
DTEND;TZID=America/Chicago:20230321T113000
DTSTAMP:20260422T064106
CREATED:20221016T175406Z
LAST-MODIFIED:20221016T175406Z
UID:10001841-1679392800-1679398200@students.thebelonging.co
SUMMARY:Chapel
DESCRIPTION:
URL:https://students.thebelonging.co/events/chapel-32/2023-03-21/
LOCATION:College Location\, 220 Great Circle Road. Ste 144\, Nasvhille\, TN\, 37228\, United States
END:VEVENT
BEGIN:VEVENT
DTSTART;TZID=America/Chicago:20230321T093000
DTEND;TZID=America/Chicago:20230321T094500
DTSTAMP:20260422T064106
CREATED:20230309T170735Z
LAST-MODIFIED:20230309T170809Z
UID:10001891-1679391000-1679391900@students.thebelonging.co
SUMMARY:Pre-Chapel Prayer
DESCRIPTION:
URL:https://students.thebelonging.co/events/pre-chapel-prayer/2023-03-21/
LOCATION:Nashville Location\, 201 Great Circle Rd\, Nasvhille\, TN\, 37228\, United States
ORGANIZER;CN="TBCO College":MAILTO:college@thebelonging.co
END:VEVENT
BEGIN:VEVENT
DTSTART;TZID=America/Chicago:20230320T190000
DTEND;TZID=America/Chicago:20230320T210000
DTSTAMP:20260422T064106
CREATED:20221213T223705Z
LAST-MODIFIED:20221213T223705Z
UID:10001444-1679338800-1679346000@students.thebelonging.co
SUMMARY:DNA
DESCRIPTION:
URL:https://students.thebelonging.co/events/dna/2023-03-20/
LOCATION:Nashville Location\, 201 Great Circle Rd\, Nasvhille\, TN\, 37228\, United States
END:VEVENT
BEGIN:VEVENT
DTSTART;TZID=America/Chicago:20230320T140000
DTEND;TZID=America/Chicago:20230320T153000
DTSTAMP:20260422T064106
CREATED:20221016T175709Z
LAST-MODIFIED:20221212T210713Z
UID:10001800-1679320800-1679326200@students.thebelonging.co
SUMMARY:Applied Practicums
DESCRIPTION:Refer to your track syllabus
URL:https://students.thebelonging.co/events/applied-practicums/2023-03-20/
END:VEVENT
BEGIN:VEVENT
DTSTART;TZID=America/Chicago:20230320T130000
DTEND;TZID=America/Chicago:20230320T140000
DTSTAMP:20260422T064106
CREATED:20221016T175603Z
LAST-MODIFIED:20221212T211029Z
UID:10001809-1679317200-1679320800@students.thebelonging.co
SUMMARY:General Practicum
DESCRIPTION:Student Auditorium
URL:https://students.thebelonging.co/events/general-practicum/2023-03-20/
LOCATION:College Location\, 220 Great Circle Road. Ste 144\, Nasvhille\, TN\, 37228\, United States
END:VEVENT
BEGIN:VEVENT
DTSTART;TZID=America/Chicago:20230320T090000
DTEND;TZID=America/Chicago:20230320T120000
DTSTAMP:20260422T064106
CREATED:20221121T233633Z
LAST-MODIFIED:20221212T211414Z
UID:10001437-1679302800-1679313600@students.thebelonging.co
SUMMARY:Group Study
DESCRIPTION:
URL:https://students.thebelonging.co/events/group-study-28/2023-03-20/
LOCATION:College Location\, 220 Great Circle Road. Ste 144\, Nasvhille\, TN\, 37228\, United States
ORGANIZER;CN="TBCO College":MAILTO:college@thebelonging.co
END:VEVENT
BEGIN:VEVENT
DTSTART;TZID=America/Chicago:20230320T083000
DTEND;TZID=America/Chicago:20230320T113000
DTSTAMP:20260422T064106
CREATED:20221121T230745Z
LAST-MODIFIED:20221212T211629Z
UID:10001407-1679301000-1679311800@students.thebelonging.co
SUMMARY:In-Person SEU Classes
DESCRIPTION:
URL:https://students.thebelonging.co/events/in-person-seu-classes-4/2023-03-20/
LOCATION:College Location\, 220 Great Circle Road. Ste 144\, Nasvhille\, TN\, 37228\, United States
ORGANIZER;CN="TBCO College":MAILTO:college@thebelonging.co
END:VEVENT
BEGIN:VEVENT
DTSTART;VALUE=DATE:20230313
DTEND;VALUE=DATE:20230318
DTSTAMP:20260422T064106
CREATED:20221016T180239Z
LAST-MODIFIED:20221016T180239Z
UID:10001787-1678665600-1679097599@students.thebelonging.co
SUMMARY:Spring Break - Building Closed
DESCRIPTION:SEU courses/assignments still due. No in person classes. College building closed.
URL:https://students.thebelonging.co/events/spring-break-building-closed/
LOCATION:College Location\, 220 Great Circle Road. Ste 144\, Nasvhille\, TN\, 37228\, United States
ORGANIZER;CN="TBCO College":MAILTO:college@thebelonging.co
END:VEVENT
BEGIN:VEVENT
DTSTART;VALUE=DATE:20230309
DTEND;VALUE=DATE:20230311
DTSTAMP:20260422T064106
CREATED:20221016T180153Z
LAST-MODIFIED:20221016T180153Z
UID:10001788-1678320000-1678492799@students.thebelonging.co
SUMMARY:Songwriter Retreat
DESCRIPTION:
URL:https://students.thebelonging.co/events/songwriter-retreat/
LOCATION:College Location\, 220 Great Circle Road. Ste 144\, Nasvhille\, TN\, 37228\, United States
ORGANIZER;CN="TBCO College":MAILTO:college@thebelonging.co
END:VEVENT
BEGIN:VEVENT
DTSTART;TZID=America/Chicago:20230308T083000
DTEND;TZID=America/Chicago:20230308T100000
DTSTAMP:20260422T064106
CREATED:20221121T233205Z
LAST-MODIFIED:20221121T233205Z
UID:10001423-1678264200-1678269600@students.thebelonging.co
SUMMARY:In-Person SEU Classes
DESCRIPTION:
URL:https://students.thebelonging.co/events/in-person-seu-classes-3/2023-03-08/
LOCATION:College Location\, 220 Great Circle Road. Ste 144\, Nasvhille\, TN\, 37228\, United States
ORGANIZER;CN="TBCO College":MAILTO:college@thebelonging.co
END:VEVENT
BEGIN:VEVENT
DTSTART;VALUE=DATE:20230308
DTEND;VALUE=DATE:20230309
DTSTAMP:20260422T064106
CREATED:20221016T180125Z
LAST-MODIFIED:20221016T180125Z
UID:10001789-1678233600-1678319999@students.thebelonging.co
SUMMARY:First Day of Session B Classes
DESCRIPTION:
URL:https://students.thebelonging.co/events/first-day-of-session-b-classes-2/
END:VEVENT
END:VCALENDAR