BEGIN:VCALENDAR
VERSION:2.0
PRODID:-//TBCO College Student Portal - ECPv6.15.17.1//NONSGML v1.0//EN
CALSCALE:GREGORIAN
METHOD:PUBLISH
X-WR-CALNAME:TBCO College Student Portal
X-ORIGINAL-URL:https://students.thebelonging.co
X-WR-CALDESC:Events for TBCO College Student Portal
REFRESH-INTERVAL;VALUE=DURATION:PT1H
X-Robots-Tag:noindex
X-PUBLISHED-TTL:PT1H
BEGIN:VTIMEZONE
TZID:America/Chicago
BEGIN:DAYLIGHT
TZOFFSETFROM:-0600
TZOFFSETTO:-0500
TZNAME:CDT
DTSTART:20220313T080000
END:DAYLIGHT
BEGIN:STANDARD
TZOFFSETFROM:-0500
TZOFFSETTO:-0600
TZNAME:CST
DTSTART:20221106T070000
END:STANDARD
BEGIN:DAYLIGHT
TZOFFSETFROM:-0600
TZOFFSETTO:-0500
TZNAME:CDT
DTSTART:20230312T080000
END:DAYLIGHT
BEGIN:STANDARD
TZOFFSETFROM:-0500
TZOFFSETTO:-0600
TZNAME:CST
DTSTART:20231105T070000
END:STANDARD
BEGIN:DAYLIGHT
TZOFFSETFROM:-0600
TZOFFSETTO:-0500
TZNAME:CDT
DTSTART:20240310T080000
END:DAYLIGHT
BEGIN:STANDARD
TZOFFSETFROM:-0500
TZOFFSETTO:-0600
TZNAME:CST
DTSTART:20241103T070000
END:STANDARD
END:VTIMEZONE
BEGIN:VEVENT
DTSTART;TZID=America/Chicago:20230502T093000
DTEND;TZID=America/Chicago:20230502T094500
DTSTAMP:20260421T200813
CREATED:20230309T170735Z
LAST-MODIFIED:20230309T170809Z
UID:10001897-1683019800-1683020700@students.thebelonging.co
SUMMARY:Pre-Chapel Prayer
DESCRIPTION:
URL:https://students.thebelonging.co/events/pre-chapel-prayer/2023-05-02/
LOCATION:Nashville Location\, 201 Great Circle Rd\, Nasvhille\, TN\, 37228\, United States
ORGANIZER;CN="TBCO College":MAILTO:college@thebelonging.co
END:VEVENT
BEGIN:VEVENT
DTSTART;VALUE=DATE:20230502
DTEND;VALUE=DATE:20230503
DTSTAMP:20260421T200813
CREATED:20221016T181017Z
LAST-MODIFIED:20221016T181017Z
UID:10001376-1682985600-1683071999@students.thebelonging.co
SUMMARY:Last Day of Classes
DESCRIPTION:
URL:https://students.thebelonging.co/events/last-day-of-classes/
END:VEVENT
BEGIN:VEVENT
DTSTART;TZID=America/Chicago:20230501T130000
DTEND;TZID=America/Chicago:20230501T140000
DTSTAMP:20260421T200813
CREATED:20221016T175603Z
LAST-MODIFIED:20221212T211029Z
UID:10001815-1682946000-1682949600@students.thebelonging.co
SUMMARY:General Practicum
DESCRIPTION:Student Auditorium
URL:https://students.thebelonging.co/events/general-practicum/2023-05-01/
LOCATION:College Location\, 220 Great Circle Road. Ste 144\, Nasvhille\, TN\, 37228\, United States
END:VEVENT
BEGIN:VEVENT
DTSTART;TZID=America/Chicago:20230501T083000
DTEND;TZID=America/Chicago:20230501T113000
DTSTAMP:20260421T200813
CREATED:20221121T230745Z
LAST-MODIFIED:20221212T211629Z
UID:10001413-1682929800-1682940600@students.thebelonging.co
SUMMARY:In-Person SEU Classes
DESCRIPTION:
URL:https://students.thebelonging.co/events/in-person-seu-classes-4/2023-05-01/
LOCATION:College Location\, 220 Great Circle Road. Ste 144\, Nasvhille\, TN\, 37228\, United States
ORGANIZER;CN="TBCO College":MAILTO:college@thebelonging.co
END:VEVENT
BEGIN:VEVENT
DTSTART;TZID=America/Chicago:20230430T110000
DTEND;TZID=America/Chicago:20230430T130000
DTSTAMP:20260421T200813
CREATED:20221016T181043Z
LAST-MODIFIED:20221108T221110Z
UID:10001378-1682852400-1682859600@students.thebelonging.co
SUMMARY:College Graduation
DESCRIPTION:
URL:https://students.thebelonging.co/events/college-graduation/
LOCATION:Nashville Location\, 201 Great Circle Rd\, Nasvhille\, TN\, 37228\, United States
END:VEVENT
BEGIN:VEVENT
DTSTART;TZID=America/Chicago:20230426T083000
DTEND;TZID=America/Chicago:20230426T100000
DTSTAMP:20260421T200813
CREATED:20221121T233205Z
LAST-MODIFIED:20221121T233205Z
UID:10001429-1682497800-1682503200@students.thebelonging.co
SUMMARY:In-Person SEU Classes
DESCRIPTION:
URL:https://students.thebelonging.co/events/in-person-seu-classes-3/2023-04-26/
LOCATION:College Location\, 220 Great Circle Road. Ste 144\, Nasvhille\, TN\, 37228\, United States
ORGANIZER;CN="TBCO College":MAILTO:college@thebelonging.co
END:VEVENT
BEGIN:VEVENT
DTSTART;TZID=America/Chicago:20230425T124500
DTEND;TZID=America/Chicago:20230425T134500
DTSTAMP:20260421T200813
CREATED:20221121T230042Z
LAST-MODIFIED:20230309T165450Z
UID:10001399-1682426700-1682430300@students.thebelonging.co
SUMMARY:Discipleship Groups
DESCRIPTION:
URL:https://students.thebelonging.co/events/discipleship-groups/2023-04-25/
LOCATION:College Location\, 220 Great Circle Road. Ste 144\, Nasvhille\, TN\, 37228\, United States
ORGANIZER;CN="TBCO College":MAILTO:college@thebelonging.co
END:VEVENT
BEGIN:VEVENT
DTSTART;TZID=America/Chicago:20230425T100000
DTEND;TZID=America/Chicago:20230425T113000
DTSTAMP:20260421T200813
CREATED:20221016T175406Z
LAST-MODIFIED:20221016T175406Z
UID:10001846-1682416800-1682422200@students.thebelonging.co
SUMMARY:Chapel
DESCRIPTION:
URL:https://students.thebelonging.co/events/chapel-32/2023-04-25/
LOCATION:College Location\, 220 Great Circle Road. Ste 144\, Nasvhille\, TN\, 37228\, United States
END:VEVENT
BEGIN:VEVENT
DTSTART;TZID=America/Chicago:20230425T093000
DTEND;TZID=America/Chicago:20230425T094500
DTSTAMP:20260421T200813
CREATED:20230309T170735Z
LAST-MODIFIED:20230309T170809Z
UID:10001896-1682415000-1682415900@students.thebelonging.co
SUMMARY:Pre-Chapel Prayer
DESCRIPTION:
URL:https://students.thebelonging.co/events/pre-chapel-prayer/2023-04-25/
LOCATION:Nashville Location\, 201 Great Circle Rd\, Nasvhille\, TN\, 37228\, United States
ORGANIZER;CN="TBCO College":MAILTO:college@thebelonging.co
END:VEVENT
BEGIN:VEVENT
DTSTART;TZID=America/Chicago:20230424T130000
DTEND;TZID=America/Chicago:20230424T140000
DTSTAMP:20260421T200813
CREATED:20221016T175603Z
LAST-MODIFIED:20221212T211029Z
UID:10001814-1682341200-1682344800@students.thebelonging.co
SUMMARY:General Practicum
DESCRIPTION:Student Auditorium
URL:https://students.thebelonging.co/events/general-practicum/2023-04-24/
LOCATION:College Location\, 220 Great Circle Road. Ste 144\, Nasvhille\, TN\, 37228\, United States
END:VEVENT
BEGIN:VEVENT
DTSTART;TZID=America/Chicago:20230424T090000
DTEND;TZID=America/Chicago:20230424T120000
DTSTAMP:20260421T200813
CREATED:20221121T233633Z
LAST-MODIFIED:20221212T211414Z
UID:10001442-1682326800-1682337600@students.thebelonging.co
SUMMARY:Group Study
DESCRIPTION:
URL:https://students.thebelonging.co/events/group-study-28/2023-04-24/
LOCATION:College Location\, 220 Great Circle Road. Ste 144\, Nasvhille\, TN\, 37228\, United States
ORGANIZER;CN="TBCO College":MAILTO:college@thebelonging.co
END:VEVENT
BEGIN:VEVENT
DTSTART;TZID=America/Chicago:20230424T083000
DTEND;TZID=America/Chicago:20230424T113000
DTSTAMP:20260421T200813
CREATED:20221121T230745Z
LAST-MODIFIED:20221212T211629Z
UID:10001412-1682325000-1682335800@students.thebelonging.co
SUMMARY:In-Person SEU Classes
DESCRIPTION:
URL:https://students.thebelonging.co/events/in-person-seu-classes-4/2023-04-24/
LOCATION:College Location\, 220 Great Circle Road. Ste 144\, Nasvhille\, TN\, 37228\, United States
ORGANIZER;CN="TBCO College":MAILTO:college@thebelonging.co
END:VEVENT
BEGIN:VEVENT
DTSTART;TZID=America/Chicago:20230420T163000
DTEND;TZID=America/Chicago:20230420T210000
DTSTAMP:20260421T200813
CREATED:20221016T180931Z
LAST-MODIFIED:20230309T170534Z
UID:10001882-1682008200-1682024400@students.thebelonging.co
SUMMARY:End of Year College BBQ
DESCRIPTION:Natalie Herms’ house
URL:https://students.thebelonging.co/events/end-of-year-college-bbq/
END:VEVENT
BEGIN:VEVENT
DTSTART;TZID=America/Chicago:20230419T083000
DTEND;TZID=America/Chicago:20230419T100000
DTSTAMP:20260421T200813
CREATED:20221121T233205Z
LAST-MODIFIED:20221121T233205Z
UID:10001428-1681893000-1681898400@students.thebelonging.co
SUMMARY:In-Person SEU Classes
DESCRIPTION:
URL:https://students.thebelonging.co/events/in-person-seu-classes-3/2023-04-19/
LOCATION:College Location\, 220 Great Circle Road. Ste 144\, Nasvhille\, TN\, 37228\, United States
ORGANIZER;CN="TBCO College":MAILTO:college@thebelonging.co
END:VEVENT
BEGIN:VEVENT
DTSTART;TZID=America/Chicago:20230418T124500
DTEND;TZID=America/Chicago:20230418T134500
DTSTAMP:20260421T200813
CREATED:20221121T230042Z
LAST-MODIFIED:20230309T165450Z
UID:10001398-1681821900-1681825500@students.thebelonging.co
SUMMARY:Discipleship Groups
DESCRIPTION:
URL:https://students.thebelonging.co/events/discipleship-groups/2023-04-18/
LOCATION:College Location\, 220 Great Circle Road. Ste 144\, Nasvhille\, TN\, 37228\, United States
ORGANIZER;CN="TBCO College":MAILTO:college@thebelonging.co
END:VEVENT
BEGIN:VEVENT
DTSTART;TZID=America/Chicago:20230418T100000
DTEND;TZID=America/Chicago:20230418T113000
DTSTAMP:20260421T200813
CREATED:20221016T175406Z
LAST-MODIFIED:20221016T175406Z
UID:10001845-1681812000-1681817400@students.thebelonging.co
SUMMARY:Chapel
DESCRIPTION:
URL:https://students.thebelonging.co/events/chapel-32/2023-04-18/
LOCATION:College Location\, 220 Great Circle Road. Ste 144\, Nasvhille\, TN\, 37228\, United States
END:VEVENT
BEGIN:VEVENT
DTSTART;TZID=America/Chicago:20230418T093000
DTEND;TZID=America/Chicago:20230418T094500
DTSTAMP:20260421T200813
CREATED:20230309T170735Z
LAST-MODIFIED:20230309T170809Z
UID:10001895-1681810200-1681811100@students.thebelonging.co
SUMMARY:Pre-Chapel Prayer
DESCRIPTION:
URL:https://students.thebelonging.co/events/pre-chapel-prayer/2023-04-18/
LOCATION:Nashville Location\, 201 Great Circle Rd\, Nasvhille\, TN\, 37228\, United States
ORGANIZER;CN="TBCO College":MAILTO:college@thebelonging.co
END:VEVENT
BEGIN:VEVENT
DTSTART;VALUE=DATE:20230418
DTEND;VALUE=DATE:20230419
DTSTAMP:20260421T200813
CREATED:20221016T180849Z
LAST-MODIFIED:20221016T180849Z
UID:10001873-1681776000-1681862399@students.thebelonging.co
SUMMARY:SEU Supervisor Evals Due
DESCRIPTION:
URL:https://students.thebelonging.co/events/seu-supervisor-evals-due/
END:VEVENT
BEGIN:VEVENT
DTSTART;TZID=America/Chicago:20230417T130000
DTEND;TZID=America/Chicago:20230417T140000
DTSTAMP:20260421T200813
CREATED:20221016T175603Z
LAST-MODIFIED:20221212T211029Z
UID:10001813-1681736400-1681740000@students.thebelonging.co
SUMMARY:General Practicum
DESCRIPTION:Student Auditorium
URL:https://students.thebelonging.co/events/general-practicum/2023-04-17/
LOCATION:College Location\, 220 Great Circle Road. Ste 144\, Nasvhille\, TN\, 37228\, United States
END:VEVENT
BEGIN:VEVENT
DTSTART;TZID=America/Chicago:20230417T090000
DTEND;TZID=America/Chicago:20230417T120000
DTSTAMP:20260421T200813
CREATED:20221121T233633Z
LAST-MODIFIED:20221212T211414Z
UID:10001441-1681722000-1681732800@students.thebelonging.co
SUMMARY:Group Study
DESCRIPTION:
URL:https://students.thebelonging.co/events/group-study-28/2023-04-17/
LOCATION:College Location\, 220 Great Circle Road. Ste 144\, Nasvhille\, TN\, 37228\, United States
ORGANIZER;CN="TBCO College":MAILTO:college@thebelonging.co
END:VEVENT
BEGIN:VEVENT
DTSTART;TZID=America/Chicago:20230417T083000
DTEND;TZID=America/Chicago:20230417T113000
DTSTAMP:20260421T200813
CREATED:20221121T230745Z
LAST-MODIFIED:20221212T211629Z
UID:10001411-1681720200-1681731000@students.thebelonging.co
SUMMARY:In-Person SEU Classes
DESCRIPTION:
URL:https://students.thebelonging.co/events/in-person-seu-classes-4/2023-04-17/
LOCATION:College Location\, 220 Great Circle Road. Ste 144\, Nasvhille\, TN\, 37228\, United States
ORGANIZER;CN="TBCO College":MAILTO:college@thebelonging.co
END:VEVENT
BEGIN:VEVENT
DTSTART;TZID=America/Chicago:20230412T083000
DTEND;TZID=America/Chicago:20230412T100000
DTSTAMP:20260421T200813
CREATED:20221121T233205Z
LAST-MODIFIED:20221121T233205Z
UID:10001427-1681288200-1681293600@students.thebelonging.co
SUMMARY:In-Person SEU Classes
DESCRIPTION:
URL:https://students.thebelonging.co/events/in-person-seu-classes-3/2023-04-12/
LOCATION:College Location\, 220 Great Circle Road. Ste 144\, Nasvhille\, TN\, 37228\, United States
ORGANIZER;CN="TBCO College":MAILTO:college@thebelonging.co
END:VEVENT
BEGIN:VEVENT
DTSTART;TZID=America/Chicago:20230411T124500
DTEND;TZID=America/Chicago:20230411T134500
DTSTAMP:20260421T200813
CREATED:20221121T230042Z
LAST-MODIFIED:20230309T165450Z
UID:10001397-1681217100-1681220700@students.thebelonging.co
SUMMARY:Discipleship Groups
DESCRIPTION:
URL:https://students.thebelonging.co/events/discipleship-groups/2023-04-11/
LOCATION:College Location\, 220 Great Circle Road. Ste 144\, Nasvhille\, TN\, 37228\, United States
ORGANIZER;CN="TBCO College":MAILTO:college@thebelonging.co
END:VEVENT
BEGIN:VEVENT
DTSTART;TZID=America/Chicago:20230411T100000
DTEND;TZID=America/Chicago:20230411T113000
DTSTAMP:20260421T200813
CREATED:20221016T175406Z
LAST-MODIFIED:20221016T175406Z
UID:10001844-1681207200-1681212600@students.thebelonging.co
SUMMARY:Chapel
DESCRIPTION:
URL:https://students.thebelonging.co/events/chapel-32/2023-04-11/
LOCATION:College Location\, 220 Great Circle Road. Ste 144\, Nasvhille\, TN\, 37228\, United States
END:VEVENT
BEGIN:VEVENT
DTSTART;TZID=America/Chicago:20230411T093000
DTEND;TZID=America/Chicago:20230411T094500
DTSTAMP:20260421T200813
CREATED:20230309T170735Z
LAST-MODIFIED:20230309T170809Z
UID:10001894-1681205400-1681206300@students.thebelonging.co
SUMMARY:Pre-Chapel Prayer
DESCRIPTION:
URL:https://students.thebelonging.co/events/pre-chapel-prayer/2023-04-11/
LOCATION:Nashville Location\, 201 Great Circle Rd\, Nasvhille\, TN\, 37228\, United States
ORGANIZER;CN="TBCO College":MAILTO:college@thebelonging.co
END:VEVENT
BEGIN:VEVENT
DTSTART;VALUE=DATE:20230411
DTEND;VALUE=DATE:20230412
DTSTAMP:20260421T200813
CREATED:20221016T180601Z
LAST-MODIFIED:20221016T180601Z
UID:10001782-1681171200-1681257599@students.thebelonging.co
SUMMARY:SEU Projects Due
DESCRIPTION:
URL:https://students.thebelonging.co/events/seu-projects-due-2/
LOCATION:College Location\, 220 Great Circle Road. Ste 144\, Nasvhille\, TN\, 37228\, United States
ORGANIZER;CN="TBCO College":MAILTO:college@thebelonging.co
END:VEVENT
BEGIN:VEVENT
DTSTART;TZID=America/Chicago:20230410T190000
DTEND;TZID=America/Chicago:20230410T210000
DTSTAMP:20260421T200813
CREATED:20221213T223705Z
LAST-MODIFIED:20221213T223705Z
UID:10001447-1681153200-1681160400@students.thebelonging.co
SUMMARY:DNA
DESCRIPTION:
URL:https://students.thebelonging.co/events/dna/2023-04-10/
LOCATION:Nashville Location\, 201 Great Circle Rd\, Nasvhille\, TN\, 37228\, United States
END:VEVENT
BEGIN:VEVENT
DTSTART;TZID=America/Chicago:20230410T130000
DTEND;TZID=America/Chicago:20230410T140000
DTSTAMP:20260421T200813
CREATED:20221016T175603Z
LAST-MODIFIED:20221212T211029Z
UID:10001812-1681131600-1681135200@students.thebelonging.co
SUMMARY:General Practicum
DESCRIPTION:Student Auditorium
URL:https://students.thebelonging.co/events/general-practicum/2023-04-10/
LOCATION:College Location\, 220 Great Circle Road. Ste 144\, Nasvhille\, TN\, 37228\, United States
END:VEVENT
BEGIN:VEVENT
DTSTART;TZID=America/Chicago:20230410T090000
DTEND;TZID=America/Chicago:20230410T120000
DTSTAMP:20260421T200813
CREATED:20221121T233633Z
LAST-MODIFIED:20221212T211414Z
UID:10001440-1681117200-1681128000@students.thebelonging.co
SUMMARY:Group Study
DESCRIPTION:
URL:https://students.thebelonging.co/events/group-study-28/2023-04-10/
LOCATION:College Location\, 220 Great Circle Road. Ste 144\, Nasvhille\, TN\, 37228\, United States
ORGANIZER;CN="TBCO College":MAILTO:college@thebelonging.co
END:VEVENT
BEGIN:VEVENT
DTSTART;TZID=America/Chicago:20230410T083000
DTEND;TZID=America/Chicago:20230410T113000
DTSTAMP:20260421T200813
CREATED:20221121T230745Z
LAST-MODIFIED:20221212T211629Z
UID:10001410-1681115400-1681126200@students.thebelonging.co
SUMMARY:In-Person SEU Classes
DESCRIPTION:
URL:https://students.thebelonging.co/events/in-person-seu-classes-4/2023-04-10/
LOCATION:College Location\, 220 Great Circle Road. Ste 144\, Nasvhille\, TN\, 37228\, United States
ORGANIZER;CN="TBCO College":MAILTO:college@thebelonging.co
END:VEVENT
END:VCALENDAR