BEGIN:VCALENDAR
VERSION:2.0
PRODID:-//TBCO College Student Portal - ECPv6.15.17.1//NONSGML v1.0//EN
CALSCALE:GREGORIAN
METHOD:PUBLISH
X-WR-CALNAME:TBCO College Student Portal
X-ORIGINAL-URL:https://students.thebelonging.co
X-WR-CALDESC:Events for TBCO College Student Portal
REFRESH-INTERVAL;VALUE=DURATION:PT1H
X-Robots-Tag:noindex
X-PUBLISHED-TTL:PT1H
BEGIN:VTIMEZONE
TZID:America/Chicago
BEGIN:DAYLIGHT
TZOFFSETFROM:-0600
TZOFFSETTO:-0500
TZNAME:CDT
DTSTART:20220313T080000
END:DAYLIGHT
BEGIN:STANDARD
TZOFFSETFROM:-0500
TZOFFSETTO:-0600
TZNAME:CST
DTSTART:20221106T070000
END:STANDARD
BEGIN:DAYLIGHT
TZOFFSETFROM:-0600
TZOFFSETTO:-0500
TZNAME:CDT
DTSTART:20230312T080000
END:DAYLIGHT
BEGIN:STANDARD
TZOFFSETFROM:-0500
TZOFFSETTO:-0600
TZNAME:CST
DTSTART:20231105T070000
END:STANDARD
BEGIN:DAYLIGHT
TZOFFSETFROM:-0600
TZOFFSETTO:-0500
TZNAME:CDT
DTSTART:20240310T080000
END:DAYLIGHT
BEGIN:STANDARD
TZOFFSETFROM:-0500
TZOFFSETTO:-0600
TZNAME:CST
DTSTART:20241103T070000
END:STANDARD
END:VTIMEZONE
BEGIN:VEVENT
DTSTART;TZID=America/Chicago:20230829T140000
DTEND;TZID=America/Chicago:20230829T170000
DTSTAMP:20260421T061307
CREATED:20230612T200328Z
LAST-MODIFIED:20230612T200328Z
UID:10002087-1693317600-1693328400@students.thebelonging.co
SUMMARY:On-Campus Study Hall
DESCRIPTION:
URL:https://students.thebelonging.co/events/on-campus-study-hall-3/2023-08-29/
END:VEVENT
BEGIN:VEVENT
DTSTART;TZID=America/Chicago:20230829T140000
DTEND;TZID=America/Chicago:20230829T170000
DTSTAMP:20260421T061307
CREATED:20230523T161005Z
LAST-MODIFIED:20230807T212626Z
UID:10002083-1693317600-1693328400@students.thebelonging.co
SUMMARY:Chapel Band Auditions
DESCRIPTION:
URL:https://students.thebelonging.co/events/chapel-worship-auditions/
END:VEVENT
BEGIN:VEVENT
DTSTART;TZID=America/Chicago:20230829T100000
DTEND;TZID=America/Chicago:20230829T113000
DTSTAMP:20260421T061307
CREATED:20230313T183826Z
LAST-MODIFIED:20230313T183826Z
UID:10001850-1693303200-1693308600@students.thebelonging.co
SUMMARY:Chapel
DESCRIPTION:
URL:https://students.thebelonging.co/events/chapel-33/2023-08-29/
LOCATION:Nashville Location\, 201 Great Circle Rd\, Nasvhille\, TN\, 37228\, United States
ORGANIZER;CN="TBCO College":MAILTO:college@thebelonging.co
END:VEVENT
BEGIN:VEVENT
DTSTART;TZID=America/Chicago:20230829T093000
DTEND;TZID=America/Chicago:20230829T094500
DTSTAMP:20260421T061307
CREATED:20230313T183738Z
LAST-MODIFIED:20230313T183738Z
UID:10001957-1693301400-1693302300@students.thebelonging.co
SUMMARY:Pre-Chapel Prayer
DESCRIPTION:
URL:https://students.thebelonging.co/events/pre-chapel-prayer-2/2023-08-29/
LOCATION:Nashville Location\, 201 Great Circle Rd\, Nasvhille\, TN\, 37228\, United States
ORGANIZER;CN="TBCO College":MAILTO:college@thebelonging.co
END:VEVENT
BEGIN:VEVENT
DTSTART;VALUE=DATE:20230829
DTEND;VALUE=DATE:20230830
DTSTAMP:20260421T061307
CREATED:20230314T202735Z
LAST-MODIFIED:20230314T202735Z
UID:10002074-1693267200-1693353599@students.thebelonging.co
SUMMARY:Add/Drop Deadline (Session A)
DESCRIPTION:
URL:https://students.thebelonging.co/events/add-drop-deadline-session-a/
ORGANIZER;CN="TBCO College":MAILTO:college@thebelonging.co
END:VEVENT
BEGIN:VEVENT
DTSTART;TZID=America/Chicago:20230828T143000
DTEND;TZID=America/Chicago:20230828T170000
DTSTAMP:20260421T061307
CREATED:20230612T195159Z
LAST-MODIFIED:20230807T212535Z
UID:10002085-1693233000-1693242000@students.thebelonging.co
SUMMARY:Chapel Vocal & Tech Auditions
DESCRIPTION:
URL:https://students.thebelonging.co/events/chapel-vocal-auditions/
END:VEVENT
BEGIN:VEVENT
DTSTART;TZID=America/Chicago:20230828T130000
DTEND;TZID=America/Chicago:20230828T140000
DTSTAMP:20260421T061307
CREATED:20230313T183348Z
LAST-MODIFIED:20230313T183348Z
UID:10001972-1693227600-1693231200@students.thebelonging.co
SUMMARY:General Practicum
DESCRIPTION:
URL:https://students.thebelonging.co/events/general-practicum-2/2023-08-28/
LOCATION:Nashville Location\, 201 Great Circle Rd\, Nasvhille\, TN\, 37228\, United States
ORGANIZER;CN="TBCO College":MAILTO:college@thebelonging.co
END:VEVENT
BEGIN:VEVENT
DTSTART;TZID=America/Chicago:20230828T113000
DTEND;TZID=America/Chicago:20230828T122000
DTSTAMP:20260421T061307
CREATED:20230313T184645Z
LAST-MODIFIED:20230313T184645Z
UID:10001934-1693222200-1693225200@students.thebelonging.co
SUMMARY:Certificate Students Leadership Session
DESCRIPTION:
URL:https://students.thebelonging.co/events/certificate-students-leadership-session-2/
LOCATION:College Location\, 220 Great Circle Road. Ste 144\, Nasvhille\, TN\, 37228\, United States
ORGANIZER;CN="TBCO College":MAILTO:college@thebelonging.co
END:VEVENT
BEGIN:VEVENT
DTSTART;TZID=America/Chicago:20230828T090000
DTEND;TZID=America/Chicago:20230828T120000
DTSTAMP:20260421T061307
CREATED:20230313T183110Z
LAST-MODIFIED:20230313T183110Z
UID:10001986-1693213200-1693224000@students.thebelonging.co
SUMMARY:On-Campus Study Hall
DESCRIPTION:
URL:https://students.thebelonging.co/events/on-campus-study-hall-2/2023-08-28/
LOCATION:College Location\, 220 Great Circle Road. Ste 144\, Nasvhille\, TN\, 37228\, United States
ORGANIZER;CN="TBCO College":MAILTO:college@thebelonging.co
END:VEVENT
BEGIN:VEVENT
DTSTART;TZID=America/Chicago:20230828T083000
DTEND;TZID=America/Chicago:20230828T120000
DTSTAMP:20260421T061307
CREATED:20230313T182747Z
LAST-MODIFIED:20230313T182747Z
UID:10002007-1693211400-1693224000@students.thebelonging.co
SUMMARY:In-Person SEU Classes
DESCRIPTION:
URL:https://students.thebelonging.co/events/in-person-seu-classes-6/2023-08-28/
LOCATION:College Location\, 220 Great Circle Road. Ste 144\, Nasvhille\, TN\, 37228\, United States
ORGANIZER;CN="TBCO College":MAILTO:college@thebelonging.co
END:VEVENT
BEGIN:VEVENT
DTSTART;TZID=America/Chicago:20230828T080000
DTEND;TZID=America/Chicago:20230828T083000
DTSTAMP:20260421T061307
CREATED:20230807T212936Z
LAST-MODIFIED:20230807T213758Z
UID:10002171-1693209600-1693211400@students.thebelonging.co
SUMMARY:Student Breakfast
DESCRIPTION:
URL:https://students.thebelonging.co/events/student-breakfast-2/2023-08-28/
END:VEVENT
BEGIN:VEVENT
DTSTART;TZID=America/Chicago:20230827T090000
DTEND;TZID=America/Chicago:20230827T130000
DTSTAMP:20260421T061307
CREATED:20230313T184831Z
LAST-MODIFIED:20230313T184831Z
UID:10001918-1693126800-1693141200@students.thebelonging.co
SUMMARY:Church
DESCRIPTION:
URL:https://students.thebelonging.co/events/church/2023-08-27/
LOCATION:Nashville Location\, 201 Great Circle Rd\, Nasvhille\, TN\, 37228\, United States
ORGANIZER;CN="TBCO College":MAILTO:college@thebelonging.co
END:VEVENT
BEGIN:VEVENT
DTSTART;TZID=America/Chicago:20230825T090000
DTEND;TZID=America/Chicago:20230825T170000
DTSTAMP:20260421T061307
CREATED:20230807T213251Z
LAST-MODIFIED:20230807T213710Z
UID:10002190-1692954000-1692982800@students.thebelonging.co
SUMMARY:College Building Open
DESCRIPTION:
URL:https://students.thebelonging.co/events/college-building-open-2/2023-08-25/
END:VEVENT
BEGIN:VEVENT
DTSTART;TZID=America/Chicago:20230824T110000
DTEND;TZID=America/Chicago:20230824T170000
DTSTAMP:20260421T061307
CREATED:20230807T214959Z
LAST-MODIFIED:20230807T215017Z
UID:10002224-1692874800-1692896400@students.thebelonging.co
SUMMARY:College Building Open at 11
DESCRIPTION:
URL:https://students.thebelonging.co/events/college-building-open-at-11/
END:VEVENT
BEGIN:VEVENT
DTSTART;TZID=America/Chicago:20230823T130000
DTEND;TZID=America/Chicago:20230823T140000
DTSTAMP:20260421T061307
CREATED:20230807T213015Z
LAST-MODIFIED:20230807T213015Z
UID:10002187-1692795600-1692799200@students.thebelonging.co
SUMMARY:New Student Headshots
DESCRIPTION:
URL:https://students.thebelonging.co/events/new-student-headshots/
END:VEVENT
BEGIN:VEVENT
DTSTART;TZID=America/Chicago:20230823T113000
DTEND;TZID=America/Chicago:20230823T123000
DTSTAMP:20260421T061307
CREATED:20230807T213129Z
LAST-MODIFIED:20230807T213129Z
UID:10002189-1692790200-1692793800@students.thebelonging.co
SUMMARY:Student Lunch
DESCRIPTION:
URL:https://students.thebelonging.co/events/student-lunch/
END:VEVENT
BEGIN:VEVENT
DTSTART;TZID=America/Chicago:20230823T110000
DTEND;TZID=America/Chicago:20230823T120000
DTSTAMP:20260421T061307
CREATED:20230807T213046Z
LAST-MODIFIED:20230807T213046Z
UID:10002188-1692788400-1692792000@students.thebelonging.co
SUMMARY:Returning Student Headshots
DESCRIPTION:
URL:https://students.thebelonging.co/events/returning-student-headshots/
END:VEVENT
BEGIN:VEVENT
DTSTART;TZID=America/Chicago:20230823T083000
DTEND;TZID=America/Chicago:20230823T140000
DTSTAMP:20260421T061307
CREATED:20230313T182607Z
LAST-MODIFIED:20230313T182607Z
UID:10002021-1692779400-1692799200@students.thebelonging.co
SUMMARY:In-Person SEU Classes
DESCRIPTION:
URL:https://students.thebelonging.co/events/in-person-seu-classes-5/2023-08-23/
LOCATION:College Location\, 220 Great Circle Road. Ste 144\, Nasvhille\, TN\, 37228\, United States
ORGANIZER;CN="TBCO College":MAILTO:college@thebelonging.co
END:VEVENT
BEGIN:VEVENT
DTSTART;TZID=America/Chicago:20230823T080000
DTEND;TZID=America/Chicago:20230823T083000
DTSTAMP:20260421T061307
CREATED:20230807T212753Z
LAST-MODIFIED:20230807T212852Z
UID:10002103-1692777600-1692779400@students.thebelonging.co
SUMMARY:Student Breakfast
DESCRIPTION:
URL:https://students.thebelonging.co/events/student-breakfast/2023-08-23/
END:VEVENT
BEGIN:VEVENT
DTSTART;VALUE=DATE:20230823
DTEND;VALUE=DATE:20230824
DTSTAMP:20260421T061307
CREATED:20230313T182353Z
LAST-MODIFIED:20230313T182353Z
UID:10002038-1692748800-1692835199@students.thebelonging.co
SUMMARY:First day of classes
DESCRIPTION:
URL:https://students.thebelonging.co/events/first-day-of-classes-2/
LOCATION:College Location\, 220 Great Circle Road. Ste 144\, Nasvhille\, TN\, 37228\, United States
ORGANIZER;CN="TBCO College":MAILTO:college@thebelonging.co
END:VEVENT
BEGIN:VEVENT
DTSTART;VALUE=DATE:20230820
DTEND;VALUE=DATE:20230823
DTSTAMP:20260421T061307
CREATED:20230313T182146Z
LAST-MODIFIED:20230313T182146Z
UID:10001899-1692489600-1692748799@students.thebelonging.co
SUMMARY:Kickoff Week
DESCRIPTION:
URL:https://students.thebelonging.co/events/kickoff-week-2/
LOCATION:College Location\, 220 Great Circle Road. Ste 144\, Nasvhille\, TN\, 37228\, United States
ORGANIZER;CN="TBCO College":MAILTO:college@thebelonging.co
END:VEVENT
BEGIN:VEVENT
DTSTART;VALUE=DATE:20230622
DTEND;VALUE=DATE:20230623
DTSTAMP:20260421T061307
CREATED:20230523T160705Z
LAST-MODIFIED:20230523T160705Z
UID:10002081-1687392000-1687478399@students.thebelonging.co
SUMMARY:College Summer Summit
DESCRIPTION:
URL:https://students.thebelonging.co/events/college-summer-summit/
END:VEVENT
BEGIN:VEVENT
DTSTART;TZID=America/Chicago:20230621T110000
DTEND;TZID=America/Chicago:20230621T150000
DTSTAMP:20260421T061307
CREATED:20230523T160726Z
LAST-MODIFIED:20230523T160726Z
UID:10002082-1687345200-1687359600@students.thebelonging.co
SUMMARY:Summer Open Day
DESCRIPTION:
URL:https://students.thebelonging.co/events/summer-open-day/
END:VEVENT
BEGIN:VEVENT
DTSTART;TZID=America/Chicago:20230502T100000
DTEND;TZID=America/Chicago:20230502T113000
DTSTAMP:20260421T061307
CREATED:20221016T175406Z
LAST-MODIFIED:20230309T170629Z
UID:10001817-1683021600-1683027000@students.thebelonging.co
SUMMARY:Graduation Chapel
DESCRIPTION:
URL:https://students.thebelonging.co/events/chapel-32-2023-05-02/
LOCATION:College Location\, 220 Great Circle Road. Ste 144\, Nasvhille\, TN\, 37228\, United States
END:VEVENT
BEGIN:VEVENT
DTSTART;TZID=America/Chicago:20230502T093000
DTEND;TZID=America/Chicago:20230502T094500
DTSTAMP:20260421T061307
CREATED:20230309T170735Z
LAST-MODIFIED:20230309T170809Z
UID:10001897-1683019800-1683020700@students.thebelonging.co
SUMMARY:Pre-Chapel Prayer
DESCRIPTION:
URL:https://students.thebelonging.co/events/pre-chapel-prayer/2023-05-02/
LOCATION:Nashville Location\, 201 Great Circle Rd\, Nasvhille\, TN\, 37228\, United States
ORGANIZER;CN="TBCO College":MAILTO:college@thebelonging.co
END:VEVENT
BEGIN:VEVENT
DTSTART;VALUE=DATE:20230502
DTEND;VALUE=DATE:20230503
DTSTAMP:20260421T061307
CREATED:20221016T181017Z
LAST-MODIFIED:20221016T181017Z
UID:10001376-1682985600-1683071999@students.thebelonging.co
SUMMARY:Last Day of Classes
DESCRIPTION:
URL:https://students.thebelonging.co/events/last-day-of-classes/
END:VEVENT
BEGIN:VEVENT
DTSTART;TZID=America/Chicago:20230501T130000
DTEND;TZID=America/Chicago:20230501T140000
DTSTAMP:20260421T061307
CREATED:20221016T175603Z
LAST-MODIFIED:20221212T211029Z
UID:10001815-1682946000-1682949600@students.thebelonging.co
SUMMARY:General Practicum
DESCRIPTION:Student Auditorium
URL:https://students.thebelonging.co/events/general-practicum/2023-05-01/
LOCATION:College Location\, 220 Great Circle Road. Ste 144\, Nasvhille\, TN\, 37228\, United States
END:VEVENT
BEGIN:VEVENT
DTSTART;TZID=America/Chicago:20230501T083000
DTEND;TZID=America/Chicago:20230501T113000
DTSTAMP:20260421T061307
CREATED:20221121T230745Z
LAST-MODIFIED:20221212T211629Z
UID:10001413-1682929800-1682940600@students.thebelonging.co
SUMMARY:In-Person SEU Classes
DESCRIPTION:
URL:https://students.thebelonging.co/events/in-person-seu-classes-4/2023-05-01/
LOCATION:College Location\, 220 Great Circle Road. Ste 144\, Nasvhille\, TN\, 37228\, United States
ORGANIZER;CN="TBCO College":MAILTO:college@thebelonging.co
END:VEVENT
BEGIN:VEVENT
DTSTART;TZID=America/Chicago:20230430T110000
DTEND;TZID=America/Chicago:20230430T130000
DTSTAMP:20260421T061307
CREATED:20221016T181043Z
LAST-MODIFIED:20221108T221110Z
UID:10001378-1682852400-1682859600@students.thebelonging.co
SUMMARY:College Graduation
DESCRIPTION:
URL:https://students.thebelonging.co/events/college-graduation/
LOCATION:Nashville Location\, 201 Great Circle Rd\, Nasvhille\, TN\, 37228\, United States
END:VEVENT
BEGIN:VEVENT
DTSTART;TZID=America/Chicago:20230426T083000
DTEND;TZID=America/Chicago:20230426T100000
DTSTAMP:20260421T061307
CREATED:20221121T233205Z
LAST-MODIFIED:20221121T233205Z
UID:10001429-1682497800-1682503200@students.thebelonging.co
SUMMARY:In-Person SEU Classes
DESCRIPTION:
URL:https://students.thebelonging.co/events/in-person-seu-classes-3/2023-04-26/
LOCATION:College Location\, 220 Great Circle Road. Ste 144\, Nasvhille\, TN\, 37228\, United States
ORGANIZER;CN="TBCO College":MAILTO:college@thebelonging.co
END:VEVENT
END:VCALENDAR