BEGIN:VCALENDAR
VERSION:2.0
PRODID:-//TBCO College Student Portal - ECPv6.15.17.1//NONSGML v1.0//EN
CALSCALE:GREGORIAN
METHOD:PUBLISH
X-WR-CALNAME:TBCO College Student Portal
X-ORIGINAL-URL:https://students.thebelonging.co
X-WR-CALDESC:Events for TBCO College Student Portal
REFRESH-INTERVAL;VALUE=DURATION:PT1H
X-Robots-Tag:noindex
X-PUBLISHED-TTL:PT1H
BEGIN:VTIMEZONE
TZID:America/Chicago
BEGIN:DAYLIGHT
TZOFFSETFROM:-0600
TZOFFSETTO:-0500
TZNAME:CDT
DTSTART:20250309T080000
END:DAYLIGHT
BEGIN:STANDARD
TZOFFSETFROM:-0500
TZOFFSETTO:-0600
TZNAME:CST
DTSTART:20251102T070000
END:STANDARD
BEGIN:DAYLIGHT
TZOFFSETFROM:-0600
TZOFFSETTO:-0500
TZNAME:CDT
DTSTART:20260308T080000
END:DAYLIGHT
BEGIN:STANDARD
TZOFFSETFROM:-0500
TZOFFSETTO:-0600
TZNAME:CST
DTSTART:20261101T070000
END:STANDARD
BEGIN:DAYLIGHT
TZOFFSETFROM:-0600
TZOFFSETTO:-0500
TZNAME:CDT
DTSTART:20270314T080000
END:DAYLIGHT
BEGIN:STANDARD
TZOFFSETFROM:-0500
TZOFFSETTO:-0600
TZNAME:CST
DTSTART:20271107T070000
END:STANDARD
END:VTIMEZONE
BEGIN:VEVENT
DTSTART;TZID=America/Chicago:20260426T170000
DTEND;TZID=America/Chicago:20260426T210000
DTSTAMP:20260422T214046
CREATED:20250812T174743Z
LAST-MODIFIED:20250812T174743Z
UID:10003399-1777222800-1777237200@students.thebelonging.co
SUMMARY:End-Of-Year BBQ
DESCRIPTION:
URL:https://students.thebelonging.co/events/end-of-year-bbq-3/
END:VEVENT
BEGIN:VEVENT
DTSTART;TZID=America/Chicago:20260427T090000
DTEND;TZID=America/Chicago:20260427T120000
DTSTAMP:20260422T214046
CREATED:20250812T181128Z
LAST-MODIFIED:20260107T031256Z
UID:10003409-1777280400-1777291200@students.thebelonging.co
SUMMARY:Graduation Rehearsal/Graduates Brunch
DESCRIPTION:
URL:https://students.thebelonging.co/events/graduation-rehearsal-senior-brunch-2/
END:VEVENT
BEGIN:VEVENT
DTSTART;TZID=America/Chicago:20260427T100000
DTEND;TZID=America/Chicago:20260427T110000
DTSTAMP:20260422T214046
CREATED:20251215T170314Z
LAST-MODIFIED:20251215T170314Z
UID:10003736-1777284000-1777287600@students.thebelonging.co
SUMMARY:Certificate Student Meeting
DESCRIPTION:
URL:https://students.thebelonging.co/events/certificate-student-meeting-3/2026-04-27/
END:VEVENT
BEGIN:VEVENT
DTSTART;TZID=America/Chicago:20260427T130000
DTEND;TZID=America/Chicago:20260427T140000
DTSTAMP:20260422T214046
CREATED:20251207T161017Z
LAST-MODIFIED:20251207T161017Z
UID:10003706-1777294800-1777298400@students.thebelonging.co
SUMMARY:Leadership Practicum
DESCRIPTION:
URL:https://students.thebelonging.co/events/leadership-practicum-2/2026-04-27/
END:VEVENT
BEGIN:VEVENT
DTSTART;TZID=America/Chicago:20260428T093000
DTEND;TZID=America/Chicago:20260428T094500
DTSTAMP:20260422T214046
CREATED:20251207T153234Z
LAST-MODIFIED:20251207T153234Z
UID:10003653-1777368600-1777369500@students.thebelonging.co
SUMMARY:Pre-Chapel Prayer
DESCRIPTION:
URL:https://students.thebelonging.co/events/pre-chapel-prayer-5/2026-04-28/
END:VEVENT
BEGIN:VEVENT
DTSTART;TZID=America/Chicago:20260428T100000
DTEND;TZID=America/Chicago:20260428T113000
DTSTAMP:20260422T214046
CREATED:20251207T153305Z
LAST-MODIFIED:20251207T153305Z
UID:10003670-1777370400-1777375800@students.thebelonging.co
SUMMARY:Chapel
DESCRIPTION:
URL:https://students.thebelonging.co/events/chapel-38/2026-04-28/
END:VEVENT
BEGIN:VEVENT
DTSTART;TZID=America/Chicago:20260428T180000
DTEND;TZID=America/Chicago:20260428T220000
DTSTAMP:20260422T214046
CREATED:20251222T155433Z
LAST-MODIFIED:20251222T155433Z
UID:10003776-1777399200-1777413600@students.thebelonging.co
SUMMARY:Company Night
DESCRIPTION:
URL:https://students.thebelonging.co/events/company-night-4/
END:VEVENT
END:VCALENDAR