BEGIN:VCALENDAR
VERSION:2.0
PRODID:-//TBCO College Student Portal - ECPv6.15.17.1//NONSGML v1.0//EN
CALSCALE:GREGORIAN
METHOD:PUBLISH
X-WR-CALNAME:TBCO College Student Portal
X-ORIGINAL-URL:https://students.thebelonging.co
X-WR-CALDESC:Events for TBCO College Student Portal
REFRESH-INTERVAL;VALUE=DURATION:PT1H
X-Robots-Tag:noindex
X-PUBLISHED-TTL:PT1H
BEGIN:VTIMEZONE
TZID:America/Chicago
BEGIN:DAYLIGHT
TZOFFSETFROM:-0600
TZOFFSETTO:-0500
TZNAME:CDT
DTSTART:20230312T080000
END:DAYLIGHT
BEGIN:STANDARD
TZOFFSETFROM:-0500
TZOFFSETTO:-0600
TZNAME:CST
DTSTART:20231105T070000
END:STANDARD
BEGIN:DAYLIGHT
TZOFFSETFROM:-0600
TZOFFSETTO:-0500
TZNAME:CDT
DTSTART:20240310T080000
END:DAYLIGHT
BEGIN:STANDARD
TZOFFSETFROM:-0500
TZOFFSETTO:-0600
TZNAME:CST
DTSTART:20241103T070000
END:STANDARD
BEGIN:DAYLIGHT
TZOFFSETFROM:-0600
TZOFFSETTO:-0500
TZNAME:CDT
DTSTART:20250309T080000
END:DAYLIGHT
BEGIN:STANDARD
TZOFFSETFROM:-0500
TZOFFSETTO:-0600
TZNAME:CST
DTSTART:20251102T070000
END:STANDARD
END:VTIMEZONE
BEGIN:VEVENT
DTSTART;TZID=America/Chicago:20240416T093000
DTEND;TZID=America/Chicago:20240416T100000
DTSTAMP:20260419T184614
CREATED:20231219T214000Z
LAST-MODIFIED:20231219T214000Z
UID:10002886-1713259800-1713261600@students.thebelonging.co
SUMMARY:Pre-Chapel Prayer
DESCRIPTION:
URL:https://students.thebelonging.co/events/pre-chapel-prayer-3/2024-04-16/
END:VEVENT
BEGIN:VEVENT
DTSTART;TZID=America/Chicago:20240416T100000
DTEND;TZID=America/Chicago:20240416T113000
DTSTAMP:20260419T184614
CREATED:20231105T183256Z
LAST-MODIFIED:20231219T220826Z
UID:10002268-1713261600-1713267000@students.thebelonging.co
SUMMARY:Chapel
DESCRIPTION:
URL:https://students.thebelonging.co/events/chapel-34/2024-04-16/
END:VEVENT
BEGIN:VEVENT
DTSTART;TZID=America/Chicago:20240416T130000
DTEND;TZID=America/Chicago:20240416T140000
DTSTAMP:20260419T184614
CREATED:20231113T230122Z
LAST-MODIFIED:20231219T220435Z
UID:10002870-1713272400-1713276000@students.thebelonging.co
SUMMARY:Discipleship Groups
DESCRIPTION:
URL:https://students.thebelonging.co/events/discipleship-groups-2/2024-04-16/
END:VEVENT
BEGIN:VEVENT
DTSTART;TZID=America/Chicago:20240416T153000
DTEND;TZID=America/Chicago:20240416T170000
DTSTAMP:20260419T184614
CREATED:20231219T214453Z
LAST-MODIFIED:20231219T214453Z
UID:10002929-1713281400-1713286800@students.thebelonging.co
SUMMARY:On-Campus SEU Classes
DESCRIPTION:
URL:https://students.thebelonging.co/events/on-campus-seu-classes-3/2024-04-16/
END:VEVENT
END:VCALENDAR