BEGIN:VCALENDAR
VERSION:2.0
PRODID:-//TBCO College Student Portal - ECPv6.15.17.1//NONSGML v1.0//EN
CALSCALE:GREGORIAN
METHOD:PUBLISH
X-WR-CALNAME:TBCO College Student Portal
X-ORIGINAL-URL:https://students.thebelonging.co
X-WR-CALDESC:Events for TBCO College Student Portal
REFRESH-INTERVAL;VALUE=DURATION:PT1H
X-Robots-Tag:noindex
X-PUBLISHED-TTL:PT1H
BEGIN:VTIMEZONE
TZID:America/Chicago
BEGIN:DAYLIGHT
TZOFFSETFROM:-0600
TZOFFSETTO:-0500
TZNAME:CDT
DTSTART:20230312T080000
END:DAYLIGHT
BEGIN:STANDARD
TZOFFSETFROM:-0500
TZOFFSETTO:-0600
TZNAME:CST
DTSTART:20231105T070000
END:STANDARD
BEGIN:DAYLIGHT
TZOFFSETFROM:-0600
TZOFFSETTO:-0500
TZNAME:CDT
DTSTART:20240310T080000
END:DAYLIGHT
BEGIN:STANDARD
TZOFFSETFROM:-0500
TZOFFSETTO:-0600
TZNAME:CST
DTSTART:20241103T070000
END:STANDARD
BEGIN:DAYLIGHT
TZOFFSETFROM:-0600
TZOFFSETTO:-0500
TZNAME:CDT
DTSTART:20250309T080000
END:DAYLIGHT
BEGIN:STANDARD
TZOFFSETFROM:-0500
TZOFFSETTO:-0600
TZNAME:CST
DTSTART:20251102T070000
END:STANDARD
END:VTIMEZONE
BEGIN:VEVENT
DTSTART;TZID=America/Chicago:20240402T093000
DTEND;TZID=America/Chicago:20240402T100000
DTSTAMP:20260419T183356
CREATED:20231219T214000Z
LAST-MODIFIED:20231219T214000Z
UID:10002884-1712050200-1712052000@students.thebelonging.co
SUMMARY:Pre-Chapel Prayer
DESCRIPTION:
URL:https://students.thebelonging.co/events/pre-chapel-prayer-3/2024-04-02/
END:VEVENT
BEGIN:VEVENT
DTSTART;TZID=America/Chicago:20240402T100000
DTEND;TZID=America/Chicago:20240402T113000
DTSTAMP:20260419T183356
CREATED:20231105T183256Z
LAST-MODIFIED:20231219T220826Z
UID:10002266-1712052000-1712057400@students.thebelonging.co
SUMMARY:Chapel
DESCRIPTION:
URL:https://students.thebelonging.co/events/chapel-34/2024-04-02/
END:VEVENT
BEGIN:VEVENT
DTSTART;TZID=America/Chicago:20240402T113000
DTEND;TZID=America/Chicago:20240402T123000
DTSTAMP:20260419T183356
CREATED:20231219T215605Z
LAST-MODIFIED:20231219T215605Z
UID:10002954-1712057400-1712061000@students.thebelonging.co
SUMMARY:Free Chick-fil-A After Chapel
DESCRIPTION:
URL:https://students.thebelonging.co/events/free-chick-fil-a-after-chapel-2/
END:VEVENT
BEGIN:VEVENT
DTSTART;TZID=America/Chicago:20240402T130000
DTEND;TZID=America/Chicago:20240402T140000
DTSTAMP:20260419T183356
CREATED:20231113T230122Z
LAST-MODIFIED:20231219T220435Z
UID:10002868-1712062800-1712066400@students.thebelonging.co
SUMMARY:Discipleship Groups
DESCRIPTION:
URL:https://students.thebelonging.co/events/discipleship-groups-2/2024-04-02/
END:VEVENT
BEGIN:VEVENT
DTSTART;TZID=America/Chicago:20240402T153000
DTEND;TZID=America/Chicago:20240402T170000
DTSTAMP:20260419T183356
CREATED:20231219T214453Z
LAST-MODIFIED:20231219T214453Z
UID:10002927-1712071800-1712077200@students.thebelonging.co
SUMMARY:On-Campus SEU Classes
DESCRIPTION:
URL:https://students.thebelonging.co/events/on-campus-seu-classes-3/2024-04-02/
END:VEVENT
END:VCALENDAR