BEGIN:VCALENDAR
VERSION:2.0
PRODID:-//TBCO College Student Portal - ECPv6.15.17.1//NONSGML v1.0//EN
CALSCALE:GREGORIAN
METHOD:PUBLISH
X-WR-CALNAME:TBCO College Student Portal
X-ORIGINAL-URL:https://students.thebelonging.co
X-WR-CALDESC:Events for TBCO College Student Portal
REFRESH-INTERVAL;VALUE=DURATION:PT1H
X-Robots-Tag:noindex
X-PUBLISHED-TTL:PT1H
BEGIN:VTIMEZONE
TZID:America/Chicago
BEGIN:DAYLIGHT
TZOFFSETFROM:-0600
TZOFFSETTO:-0500
TZNAME:CDT
DTSTART:20230312T080000
END:DAYLIGHT
BEGIN:STANDARD
TZOFFSETFROM:-0500
TZOFFSETTO:-0600
TZNAME:CST
DTSTART:20231105T070000
END:STANDARD
BEGIN:DAYLIGHT
TZOFFSETFROM:-0600
TZOFFSETTO:-0500
TZNAME:CDT
DTSTART:20240310T080000
END:DAYLIGHT
BEGIN:STANDARD
TZOFFSETFROM:-0500
TZOFFSETTO:-0600
TZNAME:CST
DTSTART:20241103T070000
END:STANDARD
BEGIN:DAYLIGHT
TZOFFSETFROM:-0600
TZOFFSETTO:-0500
TZNAME:CDT
DTSTART:20250309T080000
END:DAYLIGHT
BEGIN:STANDARD
TZOFFSETFROM:-0500
TZOFFSETTO:-0600
TZNAME:CST
DTSTART:20251102T070000
END:STANDARD
END:VTIMEZONE
BEGIN:VEVENT
DTSTART;VALUE=DATE:20240225
DTEND;VALUE=DATE:20240228
DTSTAMP:20260420T000855
CREATED:20230508T155804Z
LAST-MODIFIED:20230508T155804Z
UID:10001572-1708819200-1709078399@students.thebelonging.co
SUMMARY:Open Days
DESCRIPTION:
URL:https://students.thebelonging.co/events/open-days-8/
END:VEVENT
BEGIN:VEVENT
DTSTART;TZID=America/Chicago:20240227T093000
DTEND;TZID=America/Chicago:20240227T100000
DTSTAMP:20260420T000855
CREATED:20231219T214000Z
LAST-MODIFIED:20231219T214000Z
UID:10002880-1709026200-1709028000@students.thebelonging.co
SUMMARY:Pre-Chapel Prayer
DESCRIPTION:
URL:https://students.thebelonging.co/events/pre-chapel-prayer-3/2024-02-27/
END:VEVENT
BEGIN:VEVENT
DTSTART;TZID=America/Chicago:20240227T100000
DTEND;TZID=America/Chicago:20240227T113000
DTSTAMP:20260420T000855
CREATED:20231105T183256Z
LAST-MODIFIED:20231219T220826Z
UID:10002262-1709028000-1709033400@students.thebelonging.co
SUMMARY:Chapel
DESCRIPTION:
URL:https://students.thebelonging.co/events/chapel-34/2024-02-27/
END:VEVENT
BEGIN:VEVENT
DTSTART;TZID=America/Chicago:20240227T130000
DTEND;TZID=America/Chicago:20240227T140000
DTSTAMP:20260420T000855
CREATED:20231113T230122Z
LAST-MODIFIED:20231219T220435Z
UID:10002864-1709038800-1709042400@students.thebelonging.co
SUMMARY:Discipleship Groups
DESCRIPTION:
URL:https://students.thebelonging.co/events/discipleship-groups-2/2024-02-27/
END:VEVENT
BEGIN:VEVENT
DTSTART;TZID=America/Chicago:20240227T141500
DTEND;TZID=America/Chicago:20240227T151500
DTSTAMP:20260420T000855
CREATED:20231105T185126Z
LAST-MODIFIED:20231105T185126Z
UID:10002572-1709043300-1709046900@students.thebelonging.co
SUMMARY:Digital Media Applied Practicum
DESCRIPTION:
URL:https://students.thebelonging.co/events/digital-media-applied-practicum-2/2024-02-27/
END:VEVENT
BEGIN:VEVENT
DTSTART;TZID=America/Chicago:20240227T153000
DTEND;TZID=America/Chicago:20240227T170000
DTSTAMP:20260420T000855
CREATED:20231219T214453Z
LAST-MODIFIED:20231219T214453Z
UID:10002923-1709047800-1709053200@students.thebelonging.co
SUMMARY:On-Campus SEU Classes
DESCRIPTION:
URL:https://students.thebelonging.co/events/on-campus-seu-classes-3/2024-02-27/
END:VEVENT
BEGIN:VEVENT
DTSTART;TZID=America/Chicago:20240227T163000
DTEND;TZID=America/Chicago:20240227T173000
DTSTAMP:20260420T000855
CREATED:20231105T185428Z
LAST-MODIFIED:20231207T190319Z
UID:10002581-1709051400-1709055000@students.thebelonging.co
SUMMARY:Business Applied Practicum
DESCRIPTION:
URL:https://students.thebelonging.co/events/business-applied-practicum/2024-02-27/
END:VEVENT
END:VCALENDAR